BEGIN:VCALENDAR
VERSION:2.0
PRODID:-//hacksw/handcal//NONSGML v1.0//EN
BEGIN:VEVENT
SUMMARY:JOURNEE 7
UID:434d19d1-eb1e-433b-a025-b6c213d9d020
DTSTART:20260530T114500Z
DTEND:20260530T130000Z
LOCATION:Localisation   
CATEGORIES:Sportif
STATUS:
URL;VALUE=URI:https://football-club-landais.sportsregions.fr/evenements/2026/05/30/journee-7-2420080
END:VEVENT
END:VCALENDAR
