BEGIN:VCALENDAR
VERSION:2.0
PRODID:-//hacksw/handcal//NONSGML v1.0//EN
BEGIN:VEVENT
SUMMARY:JOURNEE 3
UID:e6d79a04-9ed7-4e32-baf1-29dcd67364e9
DTSTART:20260321T124500Z
DTEND:20260321T140000Z
LOCATION:Localisation  61100 ST GEORGES DES GROSEILLERS
CATEGORIES:Sportif
STATUS:
URL;VALUE=URI:https://football-club-landais.sportsregions.fr/evenements/2026/03/21/journee-3-2420072
END:VEVENT
END:VCALENDAR
