BEGIN:VCALENDAR
VERSION:2.0
PRODID:-//hacksw/handcal//NONSGML v1.0//EN
BEGIN:VEVENT
SUMMARY:JOURNEE 2
UID:c98fc927-66ab-4fb6-b5f4-0cfa0a28198c
DTSTART:20260314T124500Z
DTEND:20260314T140000Z
LOCATION:Localisation   
CATEGORIES:Sportif
STATUS:
URL;VALUE=URI:https://football-club-landais.sportsregions.fr/evenements/2026/03/14/journee-2-2420071
END:VEVENT
END:VCALENDAR
