BEGIN:VCALENDAR
VERSION:2.0
PRODID:-//hacksw/handcal//NONSGML v1.0//EN
BEGIN:VEVENT
SUMMARY:Challenge U13 - Groupe C
UID:3e7db833-5717-4c5a-95a7-f47a399742ca
DTSTART:20260207T130000Z
DTEND:20260207T143000Z
LOCATION:Localisation   
CATEGORIES:Sportif
STATUS:
URL;VALUE=URI:https://football-club-landais.sportsregions.fr/evenements/2026/02/07/challenge-u13-groupe-c-2420063
END:VEVENT
END:VCALENDAR
