BEGIN:VCALENDAR
VERSION:2.0
PRODID:-//hacksw/handcal//NONSGML v1.0//EN
BEGIN:VEVENT
SUMMARY:Match de la montee en D2 contre Tinchebray
UID:23239803-8fc0-479d-8e99-61b8ceaac8b9
DTSTART:20260131T130000Z
DTEND:20260131T143000Z
LOCATION:Localisation   
CATEGORIES:Sportif
STATUS:
URL;VALUE=URI:https://football-club-landais.sportsregions.fr/evenements/2026/01/31/match-de-la-montee-en-d2-contre-tinchebray-2420057
END:VEVENT
END:VCALENDAR
